BEGIN:VCALENDAR
VERSION:2.0
PRODID:-//Squarespace Inc/Squarespace 6//v6//EN
BEGIN:VEVENT
UID:5af490942b6a28f8fcf9b5ed@squarespace.com
DTSTAMP:20180510T205357Z
DTSTART:20180613T000000Z
DTEND:20180613T020000Z
SUMMARY:A Candlelight Vigil to Remember Pulse
GEO:38.909039;-77.04328
LOCATION:Pride Fund to End Gun Violence\, Dupont Circle Northwest\, Washing
 ton\, DC\, United States
END:VEVENT
END:VCALENDAR
