BEGIN:VCALENDAR
VERSION:2.0
PRODID:-//Squarespace Inc/Squarespace 6//v6//EN
BEGIN:VEVENT
UID:5ae38e246d2a7337db854f21@squarespace.com
DTSTAMP:20180427T210127Z
DTSTART:20180517T220000Z
DTEND:20180518T010000Z
SUMMARY:Pride Fund Happy Hour Fundraiser
GEO:38.917093;-77.022667
LOCATION:Town Danceboutique\, 2009 8th Street Northwest\, Washington\, DC\, 
 20001\, United States
END:VEVENT
END:VCALENDAR
